BEGIN:VCALENDAR
VERSION:2.0
CALSCALE:GREGORIAN
PRODID:-//Diputació de Barcelona//DibaCMS//EN
BEGIN:VEVENT
UID:10029
DTSTAMP:20260422T031616
DTSTART:20230430T100000
DTEND:20230430T120000
SUMMARY:Valliroute abril 2023
LOCATION:Punt inici: c/ Puigmal, 94 
METHOD:PUBLISH
X-WR-CALNAME:vlrn.info@vallirana.cat
X-WR-TIMEZONE:Europe/Madrid
DESCRIPTION:Acte inclòs a les Jornades Intergeneracionals 2023

URI:https://www.vallirana.cat/actualitat/agenda/valliroute-abril-2023.html
CLASS:PUBLIC
END:VEVENT
END:VCALENDAR
