BEGIN:VCALENDAR
VERSION:2.0
CALSCALE:GREGORIAN
PRODID:-//Diputació de Barcelona//DibaCMS//EN
BEGIN:VEVENT
UID:10262
DTSTAMP:20260420T154126
DTSTART:20231027T200000
DTEND:20231027T235000
SUMMARY:Sortida al cinema: El exorcista: creyente
LOCATION:
METHOD:PUBLISH
X-WR-CALNAME:vlrn.info@vallirana.cat
X-WR-TIMEZONE:Europe/Madrid
DESCRIPTION:Activitat de l'Agenda Jove Tardor 2023

URI:https://www.vallirana.cat/actualitat/agenda/10262-sortida-al-cinema-el-exorcista-creyente.html
CLASS:PUBLIC
END:VEVENT
END:VCALENDAR
