BEGIN:VCALENDAR
VERSION:2.0
CALSCALE:GREGORIAN
PRODID:-//Diputació de Barcelona//DibaCMS//EN
BEGIN:VEVENT
UID:1311
DTSTAMP:20260422T031530
DTSTART:20180810T090000
DTEND:20180824T120000
SUMMARY:Festa de Sant Mateu
LOCATION:Carrer Major 329 08759 Vallirana
METHOD:PUBLISH
X-WR-CALNAME:vlrn.info@vallirana.cat
X-WR-TIMEZONE:Europe/Madrid
DESCRIPTION:Inici de la festa

URI:https://www.vallirana.cat/actualitat/agenda/festa-de-sant-mateu.html
CLASS:PUBLIC
END:VEVENT
END:VCALENDAR
