BEGIN:VCALENDAR
VERSION:2.0
CALSCALE:GREGORIAN
PRODID:-//Diputació de Barcelona//DibaCMS//EN
BEGIN:VEVENT
UID:7095
DTSTAMP:20260421T145852
DTSTART:20190130T000000
DTEND:20190310T000000
SUMMARY:Publicació del nou web
LOCATION:Carrer Major 329 08759 Vallirana
METHOD:PUBLISH
X-WR-CALNAME:vlrn.info@vallirana.cat
X-WR-TIMEZONE:Europe/Madrid
DESCRIPTION:entradeta

URI:https://www.vallirana.cat/actualitat/agenda/publicacio-del-nou-web.html
CLASS:PUBLIC
END:VEVENT
END:VCALENDAR
