BEGIN:VCALENDAR
VERSION:2.0
CALSCALE:GREGORIAN
PRODID:-//Diputació de Barcelona//DibaCMS//EN
BEGIN:VEVENT
UID:7117
DTSTAMP:20260422T032058
DTSTART:20190423T000000
DTEND:20190430T000000
SUMMARY:Jornades Intergeneracionals 2019
LOCATION:Diverses ubicacions (consulteu programa activitats) 
METHOD:PUBLISH
X-WR-CALNAME:vlrn.info@vallirana.cat
X-WR-TIMEZONE:Europe/Madrid
DESCRIPTION:
URI:https://www.vallirana.cat/actualitat/agenda/jornades-intergeneracionals-2019.html
CLASS:PUBLIC
END:VEVENT
END:VCALENDAR
