BEGIN:VCALENDAR
VERSION:2.0
CALSCALE:GREGORIAN
PRODID:-//Diputació de Barcelona//DibaCMS//EN
BEGIN:VEVENT
UID:7348
DTSTAMP:20260422T180911
DTSTART:20191117T090000
DTEND:20191117T140000
SUMMARY:Caminada Popular CEV
LOCATION:
METHOD:PUBLISH
X-WR-CALNAME:vlrn.info@vallirana.cat
X-WR-TIMEZONE:Europe/Madrid
DESCRIPTION:Caminada Popular organitzada pel Centre Excursionista de Vallirana

URI:https://www.vallirana.cat/actualitat/agenda/caminada-popular-cev.html
CLASS:PUBLIC
END:VEVENT
END:VCALENDAR
