BEGIN:VCALENDAR
VERSION:2.0
CALSCALE:GREGORIAN
PRODID:-//Diputació de Barcelona//DibaCMS//EN
BEGIN:VEVENT
UID:7791
DTSTAMP:20260422T142458
DTSTART:20200107T170000
DTEND:20200115T200000
SUMMARY:Tardes de Ping Pong
LOCATION:Carrer Major, 616 08759 Vallirana
METHOD:PUBLISH
X-WR-CALNAME:vlrn.info@vallirana.cat
X-WR-TIMEZONE:Europe/Madrid
DESCRIPTION:Vine a passar una bona estona jugant a Ping Pong

URI:https://www.vallirana.cat/actualitat/agenda/tardes-de-ping-pong.html
CLASS:PUBLIC
END:VEVENT
END:VCALENDAR
