BEGIN:VCALENDAR
VERSION:2.0
CALSCALE:GREGORIAN
PRODID:-//Diputació de Barcelona//DibaCMS//EN
BEGIN:VEVENT
UID:7792
DTSTAMP:20260421T230225
DTSTART:20200116T173000
DTEND:20200117T200000
SUMMARY:Torneig Videojocs  - Sant Sebastià 2020
LOCATION:Carrer Major, 616 08759 Vallirana
METHOD:PUBLISH
X-WR-CALNAME:vlrn.info@vallirana.cat
X-WR-TIMEZONE:Europe/Madrid
DESCRIPTION:Tradicional torneig de videojocs d'inici de les festes de Sant Sebastià

URI:https://www.vallirana.cat/actualitat/agenda/torneig-videojocs-sant-sebastia-2020.html
CLASS:PUBLIC
END:VEVENT
END:VCALENDAR
