BEGIN:VCALENDAR
VERSION:2.0
CALSCALE:GREGORIAN
PRODID:-//Diputació de Barcelona//DibaCMS//EN
BEGIN:VEVENT
UID:7795
DTSTAMP:20260423T034221
DTSTART:20200117T190000
DTEND:20200117T200000
SUMMARY:Presentació llibre i exposició Coral l'Esclat
LOCATION:c/ del Molí, 2-4 (Masia Molí de Can Batlle) 08759 Vallirana
METHOD:PUBLISH
X-WR-CALNAME:vlrn.info@vallirana.cat
X-WR-TIMEZONE:Europe/Madrid
DESCRIPTION:Acte de presentació del llibre i inauguració de l'exposició de la Coral l'Esclat

URI:https://www.vallirana.cat/actualitat/agenda/presentacio-llibre-i-exposicio-coral-lesclat.html
CLASS:PUBLIC
END:VEVENT
END:VCALENDAR
