BEGIN:VCALENDAR
VERSION:2.0
CALSCALE:GREGORIAN
PRODID:-//Diputació de Barcelona//DibaCMS//EN
BEGIN:VEVENT
UID:7796
DTSTAMP:20260422T031958
DTSTART:20200117T203000
DTEND:20200117T213000
SUMMARY:Presentació 4a Jornada Solidària BTU-K
LOCATION:c/ del Molí, 2-4 (Masia Molí de Can Batlle) 08759 Vallirana
METHOD:PUBLISH
X-WR-CALNAME:vlrn.info@vallirana.cat
X-WR-TIMEZONE:Europe/Madrid
DESCRIPTION:Acte de lliurament del donatiu de BTU-K Vallirana a l'entitat Vallirana amb el Poble Sahrauí i presentació de la 4a Jornada Solidària

URI:https://www.vallirana.cat/actualitat/agenda/presentacio-4a-jornada-solidaria-btu-k.html
CLASS:PUBLIC
END:VEVENT
END:VCALENDAR
