BEGIN:VCALENDAR
VERSION:2.0
CALSCALE:GREGORIAN
PRODID:-//Diputació de Barcelona//DibaCMS//EN
BEGIN:VEVENT
UID:7797
DTSTAMP:20260421T145603
DTSTART:20200117T230000
DTEND:20200118T040000
SUMMARY:Nit Jove Sant Sebastià 2020
LOCATION:Parc central 08759 Vallirana
METHOD:PUBLISH
X-WR-CALNAME:vlrn.info@vallirana.cat
X-WR-TIMEZONE:Europe/Madrid
DESCRIPTION:Festa Jove amb BigFriday que se celebrarà a la carpa del Parc Central amb motiu de les festes de Sant Sebastià

URI:https://www.vallirana.cat/actualitat/agenda/nit-jove-sant-sebastia-2020.html
CLASS:PUBLIC
END:VEVENT
END:VCALENDAR
