BEGIN:VCALENDAR
VERSION:2.0
CALSCALE:GREGORIAN
PRODID:-//Diputació de Barcelona//DibaCMS//EN
BEGIN:VEVENT
UID:7798
DTSTAMP:20260421T113955
DTSTART:20200118T123000
DTEND:20200118T140000
SUMMARY:Hora del Conte: "El cargol Mossi"
LOCATION:carrer Bon Retir 6-8 08759 Vallirana
METHOD:PUBLISH
X-WR-CALNAME:vlrn.info@vallirana.cat
X-WR-TIMEZONE:Europe/Madrid
DESCRIPTION:L'Hora del Conte "El cargol Mussa" amb Pilar Casalengua (Cia. La Closca)

URI:https://www.vallirana.cat/actualitat/agenda/hora-del-conte-el-cargol-mossi.html
CLASS:PUBLIC
END:VEVENT
END:VCALENDAR
