BEGIN:VCALENDAR
VERSION:2.0
CALSCALE:GREGORIAN
PRODID:-//Diputació de Barcelona//DibaCMS//EN
BEGIN:VEVENT
UID:7801
DTSTAMP:20260421T145816
DTSTART:20200119T090000
DTEND:20200119T130000
SUMMARY:Obert de Petanca - Sant Sebastià 2020
LOCATION:Partida Can Campderrós 08759 Vallirana
METHOD:PUBLISH
X-WR-CALNAME:vlrn.info@vallirana.cat
X-WR-TIMEZONE:Europe/Madrid
DESCRIPTION:Obert de Petanca de Sant Sebastià 2020

Organitzat per Vallirana Club Petanca 

Preu soci: 4 €, no soci 5 €

Inscripcions: 634 476 288 (Rosi)

URI:https://www.vallirana.cat/actualitat/agenda/obert-de-petanca-sant-sebastia-2020.html
CLASS:PUBLIC
END:VEVENT
END:VCALENDAR
