BEGIN:VCALENDAR
VERSION:2.0
CALSCALE:GREGORIAN
PRODID:-//Diputació de Barcelona//DibaCMS//EN
BEGIN:VEVENT
UID:7802
DTSTAMP:20260422T235324
DTSTART:20200119T100000
DTEND:20200119T120000
SUMMARY:Barrufada - Sant Sebastià 2020
LOCATION:Parc central 08759 Vallirana
METHOD:PUBLISH
X-WR-CALNAME:vlrn.info@vallirana.cat
X-WR-TIMEZONE:Europe/Madrid
DESCRIPTION:Pedalada familiar "Barrufada" organitzada per CC Pinxo Vallirana.

Hi haurà xocolatada

Inscripcions: https://pinxovallirana.com 

URI:https://www.vallirana.cat/actualitat/agenda/barrufada-sant-sebastia-2020.html
CLASS:PUBLIC
END:VEVENT
END:VCALENDAR
