BEGIN:VCALENDAR
VERSION:2.0
CALSCALE:GREGORIAN
PRODID:-//Diputació de Barcelona//DibaCMS//EN
BEGIN:VEVENT
UID:7804
DTSTAMP:20260421T145452
DTSTART:20200119T173000
DTEND:20200119T193000
SUMMARY:Cinema Familiar - Sant Sebastià 2020
LOCATION:Parc central 08759 Vallirana
METHOD:PUBLISH
X-WR-CALNAME:vlrn.info@vallirana.cat
X-WR-TIMEZONE:Europe/Madrid
DESCRIPTION:Cinema familiar: Toy Story 4

URI:https://www.vallirana.cat/actualitat/agenda/cinema-familiar-sant-sebastia-2020.html
CLASS:PUBLIC
END:VEVENT
END:VCALENDAR
