BEGIN:VCALENDAR
VERSION:2.0
CALSCALE:GREGORIAN
PRODID:-//Diputació de Barcelona//DibaCMS//EN
BEGIN:VEVENT
UID:7806
DTSTAMP:20260421T100533
DTSTART:20200120T110000
DTEND:20200120T120000
SUMMARY:Ofici Solemne Concelebrat de Sant Sebastià 2020
LOCATION:08759 Vallirana
METHOD:PUBLISH
X-WR-CALNAME:vlrn.info@vallirana.cat
X-WR-TIMEZONE:Europe/Madrid
DESCRIPTION:Renovació del vot de poble, veneració de Sant Sebastià i lliurament i venda de panets. En acabar l'ofici, al carrer de l'Esgésia, davant la imatge de Sant Sebastià, la cobla Baix Llobregat ofereira unes peces en honor del sant.

URI:https://www.vallirana.cat/actualitat/agenda/ofici-solemne-concelebrat-de-sant-sebastia-2020.html
CLASS:PUBLIC
END:VEVENT
END:VCALENDAR
