BEGIN:VCALENDAR
VERSION:2.0
CALSCALE:GREGORIAN
PRODID:-//Diputació de Barcelona//DibaCMS//EN
BEGIN:VEVENT
UID:7807
DTSTAMP:20260422T001416
DTSTART:20200120T120000
DTEND:20200120T130000
SUMMARY:Cercavila de Sant Sebastià
LOCATION:Recorregut: des de l'Església al Parc Central 
METHOD:PUBLISH
X-WR-CALNAME:vlrn.info@vallirana.cat
X-WR-TIMEZONE:Europe/Madrid
DESCRIPTION:
URI:https://www.vallirana.cat/actualitat/agenda/cercavila-de-sant-sebastia.html
CLASS:PUBLIC
END:VEVENT
END:VCALENDAR
