BEGIN:VCALENDAR
VERSION:2.0
CALSCALE:GREGORIAN
PRODID:-//Diputació de Barcelona//DibaCMS//EN
BEGIN:VEVENT
UID:7808
DTSTAMP:20260422T080636
DTSTART:20200120T130000
DTEND:20200120T140000
SUMMARY:Sardanes Sant Sebastià 2020
LOCATION:Parc central 08759 Vallirana
METHOD:PUBLISH
X-WR-CALNAME:vlrn.info@vallirana.cat
X-WR-TIMEZONE:Europe/Madrid
DESCRIPTION:Amb la cobla Baix Llobregat i l'entitat Espigues d'Or.

URI:https://www.vallirana.cat/actualitat/agenda/sardanes-sant-sebastia-2020.html
CLASS:PUBLIC
END:VEVENT
END:VCALENDAR
