BEGIN:VCALENDAR
VERSION:2.0
CALSCALE:GREGORIAN
PRODID:-//Diputació de Barcelona//DibaCMS//EN
BEGIN:VEVENT
UID:7809
DTSTAMP:20260422T051148
DTSTART:20200120T180000
DTEND:20200120T190000
SUMMARY:Espectacle de màgia "Amazing"
LOCATION:Parc central 08759 Vallirana
METHOD:PUBLISH
X-WR-CALNAME:vlrn.info@vallirana.cat
X-WR-TIMEZONE:Europe/Madrid
DESCRIPTION:amb Melanie

URI:https://www.vallirana.cat/actualitat/agenda/espectacle-de-magia-amazing.html
CLASS:PUBLIC
END:VEVENT
END:VCALENDAR
