BEGIN:VCALENDAR
VERSION:2.0
CALSCALE:GREGORIAN
PRODID:-//Diputació de Barcelona//DibaCMS//EN
BEGIN:VEVENT
UID:7810
DTSTAMP:20260422T020155
DTSTART:20200125T110000
DTEND:20200125T123000
SUMMARY:Inauguració Biblioteca Josep M. López Picó
LOCATION:carrer Bon Retir 6-8 08759 Vallirana
METHOD:PUBLISH
X-WR-CALNAME:vlrn.info@vallirana.cat
X-WR-TIMEZONE:Europe/Madrid
DESCRIPTION:Acte d'inauguració de la nova Biblioteca al carrer del Bon Retir

URI:https://www.vallirana.cat/actualitat/agenda/inauguracio-biblioteca-josep-m-lopez-pico.html
CLASS:PUBLIC
END:VEVENT
END:VCALENDAR
