BEGIN:VCALENDAR
VERSION:2.0
CALSCALE:GREGORIAN
PRODID:-//Diputació de Barcelona//DibaCMS//EN
BEGIN:VEVENT
UID:7812
DTSTAMP:20260422T080712
DTSTART:20200126T110000
DTEND:20200126T120000
SUMMARY:XI Copa Familiar de Sant Sebastià
LOCATION:Complex Esportiu Municipal 08759 Vallirana
METHOD:PUBLISH
X-WR-CALNAME:vlrn.info@vallirana.cat
X-WR-TIMEZONE:Europe/Madrid
DESCRIPTION:Organitza el CN Vallirana

URI:https://www.vallirana.cat/actualitat/agenda/xi-copa-familiar-de-sant-sebastia.html
CLASS:PUBLIC
END:VEVENT
END:VCALENDAR
