BEGIN:VCALENDAR
VERSION:2.0
CALSCALE:GREGORIAN
PRODID:-//Diputació de Barcelona//DibaCMS//EN
BEGIN:VEVENT
UID:7813
DTSTAMP:20260422T163341
DTSTART:20200126T120000
DTEND:20200126T130000
SUMMARY:Bany de Sant Sebastià
LOCATION:Complex Esportiu Municipal 08759 Vallirana
METHOD:PUBLISH
X-WR-CALNAME:vlrn.info@vallirana.cat
X-WR-TIMEZONE:Europe/Madrid
DESCRIPTION:A la piscina exterior del CEM.

Organitzat pel CN Vallirana

URI:https://www.vallirana.cat/actualitat/agenda/bany-de-sant-sebastia.html
CLASS:PUBLIC
END:VEVENT
END:VCALENDAR
