BEGIN:VCALENDAR
VERSION:2.0
CALSCALE:GREGORIAN
PRODID:-//Diputació de Barcelona//DibaCMS//EN
BEGIN:VEVENT
UID:7814
DTSTAMP:20260422T035104
DTSTART:20200128T173000
DTEND:20200129T190000
SUMMARY:Iniciació al Manga
LOCATION:Carrer Major, 616 08759 Vallirana
METHOD:PUBLISH
X-WR-CALNAME:vlrn.info@vallirana.cat
X-WR-TIMEZONE:Europe/Madrid
DESCRIPTION:Places limitades.

URI:https://www.vallirana.cat/actualitat/agenda/iniciacio-al-manga.html
CLASS:PUBLIC
END:VEVENT
END:VCALENDAR
