BEGIN:VCALENDAR
VERSION:2.0
CALSCALE:GREGORIAN
PRODID:-//Diputació de Barcelona//DibaCMS//EN
BEGIN:VEVENT
UID:7817
DTSTAMP:20260422T201106
DTSTART:20200205T173000
DTEND:20200205T190000
SUMMARY:Aprèn a parlar en públic
LOCATION:Carrer Major, 616 08759 Vallirana
METHOD:PUBLISH
X-WR-CALNAME:vlrn.info@vallirana.cat
X-WR-TIMEZONE:Europe/Madrid
DESCRIPTION:Places limitades

URI:https://www.vallirana.cat/actualitat/agenda/apren-a-parlar-en-public.html
CLASS:PUBLIC
END:VEVENT
END:VCALENDAR
