BEGIN:VCALENDAR
VERSION:2.0
CALSCALE:GREGORIAN
PRODID:-//Diputació de Barcelona//DibaCMS//EN
BEGIN:VEVENT
UID:7818
DTSTAMP:20260421T150219
DTSTART:20200210T173000
DTEND:20200210T190000
SUMMARY:Curs Primers Auxilis
LOCATION:Carrer Major, 616 08759 Vallirana
METHOD:PUBLISH
X-WR-CALNAME:vlrn.info@vallirana.cat
X-WR-TIMEZONE:Europe/Madrid
DESCRIPTION:Amb la col·laboració de la Creu Roja

URI:https://www.vallirana.cat/actualitat/agenda/curs-primers-auxilis.html
CLASS:PUBLIC
END:VEVENT
END:VCALENDAR
