BEGIN:VCALENDAR
VERSION:2.0
CALSCALE:GREGORIAN
PRODID:-//Diputació de Barcelona//DibaCMS//EN
BEGIN:VEVENT
UID:7834
DTSTAMP:20260421T132024
DTSTART:20200120T100000
DTEND:20200120T103000
SUMMARY:Pregària en memòria dels socis de la Penya Blaugrana
LOCATION:Carrer Cementiri S/N 08759 Vallirana
METHOD:PUBLISH
X-WR-CALNAME:vlrn.info@vallirana.cat
X-WR-TIMEZONE:Europe/Madrid
DESCRIPTION:Acte en memòria del socis i simpatitzants difunts de la Penya Blaugrana Vallirana

URI:https://www.vallirana.cat/actualitat/agenda/pregaria-en-memoria-dels-socis-de-la-penya-blaugrana.html
CLASS:PUBLIC
END:VEVENT
END:VCALENDAR
