BEGIN:VCALENDAR
VERSION:2.0
CALSCALE:GREGORIAN
PRODID:-//Diputació de Barcelona//DibaCMS//EN
BEGIN:VEVENT
UID:7835
DTSTAMP:20260421T165720
DTSTART:20200123T171500
DTEND:20200123T190000
SUMMARY:Xerrada Suport Educatiu a les Famílies I
LOCATION:C/ dels Mestres Esqué i Artó, s/n 08759 Vallirana
METHOD:PUBLISH
X-WR-CALNAME:vlrn.info@vallirana.cat
X-WR-TIMEZONE:Europe/Madrid
DESCRIPTION:"Com puc motivar el meu fill en els estudis"

URI:https://www.vallirana.cat/actualitat/agenda/xerrada-suport-educatiu-a-les-families-i.html
CLASS:PUBLIC
END:VEVENT
END:VCALENDAR
