BEGIN:VCALENDAR
VERSION:2.0
CALSCALE:GREGORIAN
PRODID:-//Diputació de Barcelona//DibaCMS//EN
BEGIN:VEVENT
UID:7836
DTSTAMP:20260420T154402
DTSTART:20200227T171500
DTEND:20200227T190000
SUMMARY:Xerrada Suport Educatiu a les Famílies II
LOCATION:c/ del Molí, 2-4 (Masia Molí de Can Batlle) 08759 Vallirana
METHOD:PUBLISH
X-WR-CALNAME:vlrn.info@vallirana.cat
X-WR-TIMEZONE:Europe/Madrid
DESCRIPTION:"Què fer com a pares i mares davant l'assetjament escolar"

URI:https://www.vallirana.cat/actualitat/agenda/xerrada-suport-educatiu-a-les-families-ii.html
CLASS:PUBLIC
END:VEVENT
END:VCALENDAR
