BEGIN:VCALENDAR
VERSION:2.0
CALSCALE:GREGORIAN
PRODID:-//Diputació de Barcelona//DibaCMS//EN
BEGIN:VEVENT
UID:7840
DTSTAMP:20260423T033501
DTSTART:20200221T190000
DTEND:20200221T210000
SUMMARY:Inici XX Curs Iniciació Espeleologia
LOCATION:c/ Major, 402 08759 Vallirana
METHOD:PUBLISH
X-WR-CALNAME:vlrn.info@vallirana.cat
X-WR-TIMEZONE:Europe/Madrid
DESCRIPTION:Nova edició del Curs d'Espeleologia del CEV (Secció Espeleologia Ordal)

Curs teòric-pràctic amb sortides de cap de setmana

URI:https://www.vallirana.cat/actualitat/agenda/inici-xx-curs-iniciacio-espeleologia.html
CLASS:PUBLIC
END:VEVENT
END:VCALENDAR
