BEGIN:VCALENDAR
VERSION:2.0
CALSCALE:GREGORIAN
PRODID:-//Diputació de Barcelona//DibaCMS//EN
BEGIN:VEVENT
UID:7841
DTSTAMP:20260422T175923
DTSTART:20200208T070000
DTEND:20200208T200000
SUMMARY:Sortida Jove a la Neu
LOCATION:Sortida des del Casal de Joves 
METHOD:PUBLISH
X-WR-CALNAME:vlrn.info@vallirana.cat
X-WR-TIMEZONE:Europe/Madrid
DESCRIPTION:A la Masella.

Places limitades. Inscripcions al Casal de Joves

 

URI:https://www.vallirana.cat/actualitat/agenda/sortida-jove-a-la-neu.html
CLASS:PUBLIC
END:VEVENT
END:VCALENDAR
