BEGIN:VCALENDAR
VERSION:2.0
CALSCALE:GREGORIAN
PRODID:-//Diputació de Barcelona//DibaCMS//EN
BEGIN:VEVENT
UID:7868
DTSTAMP:20260421T005000
DTSTART:20200214T183000
DTEND:20200214T210000
SUMMARY:Bafta shorts 2019
LOCATION:carrer Bon Retir 6-8 08759 Vallirana
METHOD:PUBLISH
X-WR-CALNAME:vlrn.info@vallirana.cat
X-WR-TIMEZONE:Europe/Madrid
DESCRIPTION:Els millors curtmetratges britànics de l'any

URI:https://www.vallirana.cat/actualitat/agenda/bafta-shorts-2019.html
CLASS:PUBLIC
END:VEVENT
END:VCALENDAR
