BEGIN:VCALENDAR
VERSION:2.0
CALSCALE:GREGORIAN
PRODID:-//Diputació de Barcelona//DibaCMS//EN
BEGIN:VEVENT
UID:7870
DTSTAMP:20260421T150022
DTSTART:20200213T173000
DTEND:20200213T190000
SUMMARY:Taller cuina: pastís d'enamorats
LOCATION:Carrer Major, 616 08759 Vallirana
METHOD:PUBLISH
X-WR-CALNAME:vlrn.info@vallirana.cat
X-WR-TIMEZONE:Europe/Madrid
DESCRIPTION:Inscripcions al Casal de Joves

URI:https://www.vallirana.cat/actualitat/agenda/taller-cuina-pastis-denamorats.html
CLASS:PUBLIC
END:VEVENT
END:VCALENDAR
