BEGIN:VCALENDAR
VERSION:2.0
CALSCALE:GREGORIAN
PRODID:-//Diputació de Barcelona//DibaCMS//EN
BEGIN:VEVENT
UID:7871
DTSTAMP:20260421T145718
DTSTART:20200219T193000
DTEND:20200219T210000
SUMMARY:Club de lectura
LOCATION:carrer Bon Retir 6-8 08759 Vallirana
METHOD:PUBLISH
X-WR-CALNAME:vlrn.info@vallirana.cat
X-WR-TIMEZONE:Europe/Madrid
DESCRIPTION:"Prestigio" de Rachel Cusk.

A càrrec d'Ilumi Ramos

URI:https://www.vallirana.cat/actualitat/agenda/7871-club-de-lectura.html
CLASS:PUBLIC
END:VEVENT
END:VCALENDAR
