BEGIN:VCALENDAR
VERSION:2.0
CALSCALE:GREGORIAN
PRODID:-//Diputació de Barcelona//DibaCMS//EN
BEGIN:VEVENT
UID:7874
DTSTAMP:20260420T123125
DTSTART:20200305T173000
DTEND:20200305T190000
SUMMARY:Fes-te voluntari de la Creu Roja
LOCATION:Carrer Major, 616 08759 Vallirana
METHOD:PUBLISH
X-WR-CALNAME:vlrn.info@vallirana.cat
X-WR-TIMEZONE:Europe/Madrid
DESCRIPTION:
URI:https://www.vallirana.cat/actualitat/agenda/fes-te-voluntari-de-la-creu-roja.html
CLASS:PUBLIC
END:VEVENT
END:VCALENDAR
