BEGIN:VCALENDAR
VERSION:2.0
CALSCALE:GREGORIAN
PRODID:-//Diputació de Barcelona//DibaCMS//EN
BEGIN:VEVENT
UID:7875
DTSTAMP:20260422T031400
DTSTART:20200306T173000
DTEND:20200306T190000
SUMMARY:Taller de defensa personal
LOCATION:Carrer Major, 616 08759 Vallirana
METHOD:PUBLISH
X-WR-CALNAME:vlrn.info@vallirana.cat
X-WR-TIMEZONE:Europe/Madrid
DESCRIPTION:Informació i inscripcions al Casal de Joves

URI:https://www.vallirana.cat/actualitat/agenda/taller-de-defensa-personal.html
CLASS:PUBLIC
END:VEVENT
END:VCALENDAR
