BEGIN:VCALENDAR
VERSION:2.0
CALSCALE:GREGORIAN
PRODID:-//Diputació de Barcelona//DibaCMS//EN
BEGIN:VEVENT
UID:7876
DTSTAMP:20260420T193212
DTSTART:20200310T173000
DTEND:20200310T190000
SUMMARY:Jocs de taula
LOCATION:Carrer Major, 616 08759 Vallirana
METHOD:PUBLISH
X-WR-CALNAME:vlrn.info@vallirana.cat
X-WR-TIMEZONE:Europe/Madrid
DESCRIPTION:Informació i inscripcions al Casal de Joves

URI:https://www.vallirana.cat/actualitat/agenda/jocs-de-taula.html
CLASS:PUBLIC
END:VEVENT
END:VCALENDAR
