BEGIN:VCALENDAR
VERSION:2.0
CALSCALE:GREGORIAN
PRODID:-//Diputació de Barcelona//DibaCMS//EN
BEGIN:VEVENT
UID:7879
DTSTAMP:20260422T161822
DTSTART:20200319T180000
DTEND:20200319T200000
SUMMARY:Taller Toca-Toca
LOCATION:carrer Bon Retir 6-8 08759 Vallirana
METHOD:PUBLISH
X-WR-CALNAME:vlrn.info@vallirana.cat
X-WR-TIMEZONE:Europe/Madrid
DESCRIPTION:Amfibis i rèptils.

A carrec de Gestió Natural

URI:https://www.vallirana.cat/actualitat/agenda/taller-toca-toca.html
CLASS:PUBLIC
END:VEVENT
END:VCALENDAR
