BEGIN:VCALENDAR
VERSION:2.0
CALSCALE:GREGORIAN
PRODID:-//Diputació de Barcelona//DibaCMS//EN
BEGIN:VEVENT
UID:7884
DTSTAMP:20260421T114025
DTSTART:20200223T090000
DTEND:20200223T130000
SUMMARY:Marxa Nòrdica
LOCATION:Sortida de la Masia Molí de Can Batlle 
METHOD:PUBLISH
X-WR-CALNAME:vlrn.info@vallirana.cat
X-WR-TIMEZONE:Europe/Madrid
DESCRIPTION:Més informació: Masia Molí de Can Batlle

URI:https://www.vallirana.cat/actualitat/agenda/7884-marxa-nordica.html
CLASS:PUBLIC
END:VEVENT
END:VCALENDAR
