BEGIN:VCALENDAR
VERSION:2.0
CALSCALE:GREGORIAN
PRODID:-//Diputació de Barcelona//DibaCMS//EN
BEGIN:VEVENT
UID:7894
DTSTAMP:20260421T165847
DTSTART:20200204T163000
DTEND:20200204T203000
SUMMARY:Donació de Sang
LOCATION:Parc central 08759 Vallirana
METHOD:PUBLISH
X-WR-CALNAME:vlrn.info@vallirana.cat
X-WR-TIMEZONE:Europe/Madrid
DESCRIPTION:Visita de la Unitat mòbil del Banc de Sang i Teixits.

"Dona el millor de tu, dona sang"

URI:https://www.vallirana.cat/actualitat/agenda/donacio-de-sang.html
CLASS:PUBLIC
END:VEVENT
END:VCALENDAR
