BEGIN:VCALENDAR
VERSION:2.0
CALSCALE:GREGORIAN
PRODID:-//Diputació de Barcelona//DibaCMS//EN
BEGIN:VEVENT
UID:7908
DTSTAMP:20260422T032034
DTSTART:20200216T100000
DTEND:20200216T140000
SUMMARY:Sortida guiada amb gossos
LOCATION:Sortida des del Casal de Joves 
METHOD:PUBLISH
X-WR-CALNAME:vlrn.info@vallirana.cat
X-WR-TIMEZONE:Europe/Madrid
DESCRIPTION:Activitat a càrrec d’un monitor/guia i d’una etòloga (experta en conducta canina)

 

 

URI:https://www.vallirana.cat/actualitat/agenda/sortida-guiada-amb-gossos.html
CLASS:PUBLIC
END:VEVENT
END:VCALENDAR
