BEGIN:VCALENDAR
VERSION:2.0
CALSCALE:GREGORIAN
PRODID:-//Diputació de Barcelona//DibaCMS//EN
BEGIN:VEVENT
UID:7919
DTSTAMP:20260421T145918
DTSTART:20200218T113000
DTEND:20200218T190000
SUMMARY:Xerrades Alternatives a l'ESO
LOCATION:Institut Vall d'Arús i Casal de Joves 
METHOD:PUBLISH
X-WR-CALNAME:vlrn.info@vallirana.cat
X-WR-TIMEZONE:Europe/Madrid
DESCRIPTION:3 xerrades.

URI:https://www.vallirana.cat/actualitat/agenda/xerrades-alternatives-a-leso.html
CLASS:PUBLIC
END:VEVENT
END:VCALENDAR
