BEGIN:VCALENDAR
VERSION:2.0
CALSCALE:GREGORIAN
PRODID:-//Diputació de Barcelona//DibaCMS//EN
BEGIN:VEVENT
UID:7929
DTSTAMP:20260421T062254
DTSTART:20200221T180000
DTEND:20200221T193000
SUMMARY:Lectura de contes
LOCATION:carrer Bon Retir 6-8 08759 Vallirana
METHOD:PUBLISH
X-WR-CALNAME:vlrn.info@vallirana.cat
X-WR-TIMEZONE:Europe/Madrid
DESCRIPTION:Per Carnestoltes: lectura de contes i taller

URI:https://www.vallirana.cat/actualitat/agenda/lectura-de-contes.html
CLASS:PUBLIC
END:VEVENT
END:VCALENDAR
