BEGIN:VCALENDAR
VERSION:2.0
CALSCALE:GREGORIAN
PRODID:-//Diputació de Barcelona//DibaCMS//EN
BEGIN:VEVENT
UID:7934
DTSTAMP:20260423T061332
DTSTART:20200223T120000
DTEND:20200223T170000
SUMMARY:Celebració 40 aniversari Penya Blaugrana Vallirana
LOCATION:Xerrada: Masia Molí de Can Batlle
Dinar: Restaurant Selva Negra 
METHOD:PUBLISH
X-WR-CALNAME:vlrn.info@vallirana.cat
X-WR-TIMEZONE:Europe/Madrid
DESCRIPTION:Xerrada i dinar d'aniversari

URI:https://www.vallirana.cat/actualitat/agenda/celebracio-40-aniversari-penya-blaugrana-vallirana.html
CLASS:PUBLIC
END:VEVENT
END:VCALENDAR
