BEGIN:VCALENDAR
VERSION:2.0
CALSCALE:GREGORIAN
PRODID:-//Diputació de Barcelona//DibaCMS//EN
BEGIN:VEVENT
UID:7987
DTSTAMP:20260421T004843
DTSTART:20200314T090000
DTEND:20200314T140000
SUMMARY:Campionat Juga Verd Play
LOCATION:Av. de l'Esport 1-3 08759 Vallirana
METHOD:PUBLISH
X-WR-CALNAME:vlrn.info@vallirana.cat
X-WR-TIMEZONE:Europe/Madrid
DESCRIPTION:Competicions esportives del Consell Esports del Baix Llobregat

URI:https://www.vallirana.cat/actualitat/agenda/campionat-juga-verd-play.html
CLASS:PUBLIC
END:VEVENT
END:VCALENDAR
