BEGIN:VCALENDAR
VERSION:2.0
CALSCALE:GREGORIAN
PRODID:-//Diputació de Barcelona//DibaCMS//EN
BEGIN:VEVENT
UID:8259
DTSTAMP:20260420T153211
DTSTART:20200526T110000
DTEND:20200526T130000
SUMMARY:Tercera sessió en línia de coaching ocupacional
LOCATION:Sessió en línia 
METHOD:PUBLISH
X-WR-CALNAME:vlrn.info@vallirana.cat
X-WR-TIMEZONE:Europe/Madrid
DESCRIPTION:“Aconsegueix els teus reptes!”

URI:https://www.vallirana.cat/actualitat/agenda/8259-tercera-sessio-en-linia-de-coaching-ocupacional.html
CLASS:PUBLIC
END:VEVENT
END:VCALENDAR
