BEGIN:VCALENDAR
VERSION:2.0
CALSCALE:GREGORIAN
PRODID:-//Diputació de Barcelona//DibaCMS//EN
BEGIN:VEVENT
UID:8260
DTSTAMP:20260420T153027
DTSTART:20200526T110000
DTEND:20200526T120000
SUMMARY:Hora del conte maig 2020
LOCATION:Telemàtic des del canal YouTube https://www.youtube.com/channel/UCgBv8un1VAXgdNh0d2dZQeA 
METHOD:PUBLISH
X-WR-CALNAME:vlrn.info@vallirana.cat
X-WR-TIMEZONE:Europe/Madrid
DESCRIPTION:Olívia, la nena viatgera

URI:https://www.vallirana.cat/actualitat/agenda/hora-del-conte-maig-2020.html
CLASS:PUBLIC
END:VEVENT
END:VCALENDAR
