BEGIN:VCALENDAR
VERSION:2.0
CALSCALE:GREGORIAN
PRODID:-//Diputació de Barcelona//DibaCMS//EN
BEGIN:VEVENT
UID:8280
DTSTAMP:20260421T145701
DTSTART:20200602T110000
DTEND:20200602T130000
SUMMARY:Quarta sessió en línia de coaching ocupacional
LOCATION:Sessió telemàtica 
METHOD:PUBLISH
X-WR-CALNAME:vlrn.info@vallirana.cat
X-WR-TIMEZONE:Europe/Madrid
DESCRIPTION:Dimarts 2, “Gestiona les teves emocions: en tu està el canvi!”

URI:https://www.vallirana.cat/actualitat/agenda/8280-quarta-sessio-en-linia-de-coaching-ocupacional.html
CLASS:PUBLIC
END:VEVENT
END:VCALENDAR
