BEGIN:VCALENDAR
VERSION:2.0
CALSCALE:GREGORIAN
PRODID:-//Diputació de Barcelona//DibaCMS//EN
BEGIN:VEVENT
UID:8293
DTSTAMP:20260421T145354
DTSTART:20200604T203000
DTEND:20200604T223000
SUMMARY:Sessions formatives per al comerç i serveis del municipi
LOCATION:En format telemàtic 
METHOD:PUBLISH
X-WR-CALNAME:vlrn.info@vallirana.cat
X-WR-TIMEZONE:Europe/Madrid
DESCRIPTION:“Mesures preventives davant la Covid-19”

URI:https://www.vallirana.cat/actualitat/agenda/8293-sessions-formatives-per-al-comerc-i-serveis-del-municipi.html
CLASS:PUBLIC
END:VEVENT
END:VCALENDAR
