BEGIN:VCALENDAR
VERSION:2.0
CALSCALE:GREGORIAN
PRODID:-//Diputació de Barcelona//DibaCMS//EN
BEGIN:VEVENT
UID:8343
DTSTAMP:20260422T074619
DTSTART:20200616T110000
DTEND:20200616T130000
SUMMARY:6a sessió en línia de Coaching per a la millora de l’ocupabilitat
LOCATION:Sessió en línia 
METHOD:PUBLISH
X-WR-CALNAME:vlrn.info@vallirana.cat
X-WR-TIMEZONE:Europe/Madrid
DESCRIPTION:La proactivitat davant les oportunitats

URI:https://www.vallirana.cat/actualitat/agenda/6a-sessio-en-linia-de-coaching-per-a-la-millora-de-locupabilitat.html
CLASS:PUBLIC
END:VEVENT
END:VCALENDAR
