BEGIN:VCALENDAR
VERSION:2.0
CALSCALE:GREGORIAN
PRODID:-//Diputació de Barcelona//DibaCMS//EN
BEGIN:VEVENT
UID:8355
DTSTAMP:20260420T153232
DTSTART:20200620T103000
DTEND:20200620T123000
SUMMARY:Activitat Familiar. Taller d’iniciació al Land Art - dissabte
LOCATION:Punt trobada: Masia Molí de Can Batlle 
METHOD:PUBLISH
X-WR-CALNAME:vlrn.info@vallirana.cat
X-WR-TIMEZONE:Europe/Madrid
DESCRIPTION: Activitats familiar de contacte amb l’entorn natural de Vallirana 

URI:https://www.vallirana.cat/actualitat/agenda/activitat-familiar-taller-diniciacio-al-land-art-dissabte.html
CLASS:PUBLIC
END:VEVENT
END:VCALENDAR
